BEGIN:VCALENDAR
PRODID:-//www.informationleadership.co.nz//EN
VERSION:2.0
METHOD:PUBLISH
BEGIN:VEVENT
DTSTART;TZID=Pacific/Auckland:20170223T090000
DTEND;TZID=Pacific/Auckland:20170224T170000
URL:http://www.informationleadership.co.nz/training/calendar/sharepoint-strategy-and-roadmap-auckland/
SUMMARY:Getting SharePoint Right: Strategy & Roadmap AUCKLAND
END:VEVENT
END:VCALENDAR