BEGIN:VCALENDAR
PRODID:-//www.informationleadership.co.nz//EN
VERSION:2.0
METHOD:PUBLISH
BEGIN:VEVENT
DTSTART;TZID=Pacific/Auckland:20170509T
DTEND;TZID=Pacific/Auckland:20170509T
URL:http://www.informationleadership.co.nz/training/calendar/nelson/
SUMMARY:Get ahead with SharePoint/365 NELSON
END:VEVENT
END:VCALENDAR